BEGIN:VCALENDAR
VERSION:2.0
PRODID:-//Church of the Covenant - ECPv6.15.20//NONSGML v1.0//EN
CALSCALE:GREGORIAN
METHOD:PUBLISH
X-WR-CALNAME:Church of the Covenant
X-ORIGINAL-URL:https://athinkingchurch.org
X-WR-CALDESC:Events for Church of the Covenant
REFRESH-INTERVAL;VALUE=DURATION:PT1H
X-Robots-Tag:noindex
X-PUBLISHED-TTL:PT1H
BEGIN:VTIMEZONE
TZID:America/New_York
BEGIN:DAYLIGHT
TZOFFSETFROM:-0500
TZOFFSETTO:-0400
TZNAME:EDT
DTSTART:20150308T070000
END:DAYLIGHT
BEGIN:STANDARD
TZOFFSETFROM:-0400
TZOFFSETTO:-0500
TZNAME:EST
DTSTART:20151101T060000
END:STANDARD
BEGIN:DAYLIGHT
TZOFFSETFROM:-0500
TZOFFSETTO:-0400
TZNAME:EDT
DTSTART:20160313T070000
END:DAYLIGHT
BEGIN:STANDARD
TZOFFSETFROM:-0400
TZOFFSETTO:-0500
TZNAME:EST
DTSTART:20161106T060000
END:STANDARD
BEGIN:DAYLIGHT
TZOFFSETFROM:-0500
TZOFFSETTO:-0400
TZNAME:EDT
DTSTART:20170312T070000
END:DAYLIGHT
BEGIN:STANDARD
TZOFFSETFROM:-0400
TZOFFSETTO:-0500
TZNAME:EST
DTSTART:20171105T060000
END:STANDARD
END:VTIMEZONE
BEGIN:VEVENT
DTSTART;TZID=America/New_York:20160502T101500
DTEND;TZID=America/New_York:20160502T231500
DTSTAMP:20260423T211557
CREATED:20160407T184814Z
LAST-MODIFIED:20160408T112504Z
UID:36859-1462184100-1462230900@athinkingchurch.org
SUMMARY:Outreach - Higher Ground
DESCRIPTION:The next Higher Ground event will be held on May 2 and our Outreach Coordinator will be bringing in platters from Chick-Fil-A. Cost will be about $60\, and any funds raised in addition to the $60 will go to Higher Ground to use for bus passes and/or any client with pressing needs. We are falling in love with the clients and staff at Higher Ground\, and would love to be a positive impact in their lives in all ways possible. Just drop your gift in the offering basket clearly marked for Higher Ground; if writing a check\, please mark “Higher Ground” on the memo line. \nPersonal note from Sarah: “The most important thing–Please\, please feel free to come join us and just hang out. These guys are wonderful and we always have an uplifting time. And I’m not one who usually uses words like “uplifting”. The most important part of our ministry to each other is just the fellowship.” 
URL:https://athinkingchurch.org/event/outreach-higher-ground/
LOCATION:Higher Ground Day Center\, 210 E. Bessemer Ave\, Greensboro\, NC\, 27401-1416\, United States
CATEGORIES:Volunteer/Outreach
ATTACH;FMTTYPE=image/jpeg:https://athinkingchurch.org/wp-content/uploads/2016/04/99.jpg
ORGANIZER;CN="Sarah Sills":MAILTO:sarahbsills@gmail.com
END:VEVENT
BEGIN:VEVENT
DTSTART;TZID=America/New_York:20160501T101500
DTEND;TZID=America/New_York:20160501T110000
DTSTAMP:20260423T211557
CREATED:20160409T133520Z
LAST-MODIFIED:20160413T202711Z
UID:37095-1462097700-1462100400@athinkingchurch.org
SUMMARY:Adult Study Group - CIDG
DESCRIPTION:The Contemporary Issues Discussion Group explores local and national issues\, gently examines the facets of their own beliefs and practices\, and seeks out new concepts from others. 
URL:https://athinkingchurch.org/event/cidg-2-2016-05-01/2016-05-01/
LOCATION:Church of the Covenant – Library\, 501 S. Mendenhall St\, Greensboro\, NC\, 27408\, United States
ATTACH;FMTTYPE=image/jpeg:https://athinkingchurch.org/wp-content/uploads/2016/04/library2.jpg
ORGANIZER;CN="Sarah Sills":MAILTO:sarahbsills@gmail.com
END:VEVENT
BEGIN:VEVENT
DTSTART;TZID=America/New_York:20160417T101500
DTEND;TZID=America/New_York:20160417T110000
DTSTAMP:20260423T211557
CREATED:20160331T114356Z
LAST-MODIFIED:20160409T173754Z
UID:36796-1460888100-1460890800@athinkingchurch.org
SUMMARY:Adult Study Group - CIDG - Danielle Bouchard\, guest leader
DESCRIPTION:Danielle Bouchard\, Associate Professor of Women’s and Gender Studies at UNCG\, will lead a discussion to raise awareness about gender diversity and the challenges that people who do not identify as traditional cis-gendered face in states like North Carolina.
URL:https://athinkingchurch.org/event/wednesday-potluck-dinner-being-transgender-in-nc/
LOCATION:Church of the Covenant – Library\, 501 S. Mendenhall St\, Greensboro\, NC\, 27408\, United States
CATEGORIES:Adult Classes
ORGANIZER;CN="Sarah Sills":MAILTO:sarahbsills@gmail.com
END:VEVENT
BEGIN:VEVENT
DTSTART;TZID=America/New_York:20160410T101500
DTEND;TZID=America/New_York:20160410T110000
DTSTAMP:20260423T211557
CREATED:20160407T183215Z
LAST-MODIFIED:20160409T143223Z
UID:36856-1460283300-1460286000@athinkingchurch.org
SUMMARY:Adult Study Group - CIDG - LGBTQ+ basics
DESCRIPTION:Sarah Sills\, leading the Contemporary Issues Discussion Group\, will offer a crash course on the basics of what being transgender means\, starting with the most basic info (e.g.\, what do the letters in LGBTQIA stand for?) This discussion is meant to be an introduction in anticipation of next week’s guest speaker.
URL:https://athinkingchurch.org/event/cidg/
LOCATION:Church of the Covenant – Library\, 501 S. Mendenhall St\, Greensboro\, NC\, 27408\, United States
CATEGORIES:Adult Classes
ATTACH;FMTTYPE=image/jpeg:https://athinkingchurch.org/wp-content/uploads/2016/04/library.jpg
ORGANIZER;CN="Sarah Sills":MAILTO:sarahbsills@gmail.com
END:VEVENT
END:VCALENDAR