BEGIN:VCALENDAR
VERSION:2.0
PRODID:-//Church of the Covenant - ECPv6.15.20//NONSGML v1.0//EN
CALSCALE:GREGORIAN
METHOD:PUBLISH
X-ORIGINAL-URL:https://athinkingchurch.org
X-WR-CALDESC:Events for Church of the Covenant
REFRESH-INTERVAL;VALUE=DURATION:PT1H
X-Robots-Tag:noindex
X-PUBLISHED-TTL:PT1H
BEGIN:VTIMEZONE
TZID:America/New_York
BEGIN:DAYLIGHT
TZOFFSETFROM:-0500
TZOFFSETTO:-0400
TZNAME:EDT
DTSTART:20150308T070000
END:DAYLIGHT
BEGIN:STANDARD
TZOFFSETFROM:-0400
TZOFFSETTO:-0500
TZNAME:EST
DTSTART:20151101T060000
END:STANDARD
BEGIN:DAYLIGHT
TZOFFSETFROM:-0500
TZOFFSETTO:-0400
TZNAME:EDT
DTSTART:20160313T070000
END:DAYLIGHT
BEGIN:STANDARD
TZOFFSETFROM:-0400
TZOFFSETTO:-0500
TZNAME:EST
DTSTART:20161106T060000
END:STANDARD
BEGIN:DAYLIGHT
TZOFFSETFROM:-0500
TZOFFSETTO:-0400
TZNAME:EDT
DTSTART:20170312T070000
END:DAYLIGHT
BEGIN:STANDARD
TZOFFSETFROM:-0400
TZOFFSETTO:-0500
TZNAME:EST
DTSTART:20171105T060000
END:STANDARD
BEGIN:DAYLIGHT
TZOFFSETFROM:-0500
TZOFFSETTO:-0400
TZNAME:EDT
DTSTART:20180311T070000
END:DAYLIGHT
BEGIN:STANDARD
TZOFFSETFROM:-0400
TZOFFSETTO:-0500
TZNAME:EST
DTSTART:20181104T060000
END:STANDARD
BEGIN:DAYLIGHT
TZOFFSETFROM:-0500
TZOFFSETTO:-0400
TZNAME:EDT
DTSTART:20190310T070000
END:DAYLIGHT
BEGIN:STANDARD
TZOFFSETFROM:-0400
TZOFFSETTO:-0500
TZNAME:EST
DTSTART:20191103T060000
END:STANDARD
BEGIN:DAYLIGHT
TZOFFSETFROM:-0500
TZOFFSETTO:-0400
TZNAME:EDT
DTSTART:20200308T070000
END:DAYLIGHT
BEGIN:STANDARD
TZOFFSETFROM:-0400
TZOFFSETTO:-0500
TZNAME:EST
DTSTART:20201101T060000
END:STANDARD
BEGIN:DAYLIGHT
TZOFFSETFROM:-0500
TZOFFSETTO:-0400
TZNAME:EDT
DTSTART:20210314T070000
END:DAYLIGHT
BEGIN:STANDARD
TZOFFSETFROM:-0400
TZOFFSETTO:-0500
TZNAME:EST
DTSTART:20211107T060000
END:STANDARD
END:VTIMEZONE
BEGIN:VEVENT
DTSTART;TZID=America/New_York:20201206T100000
DTEND;TZID=America/New_York:20201220T100000
DTSTAMP:20260423T165218
CREATED:20201201T173316Z
LAST-MODIFIED:20201201T173933Z
UID:38891-1607248800-1608458400@athinkingchurch.org
SUMMARY:Food Drive for Spartan Open Pantry!
DESCRIPTION:
URL:https://athinkingchurch.org/event/food-drive-for-spartan-open-pantry/
LOCATION:Presbyterian Church of The Covenant\, 501 S. Mendenhall St.\, Greensboro\, NC\, 27403\, United States
CATEGORIES:Special Event,Volunteer/Outreach
ORGANIZER;CN="Joyce Powers":MAILTO:jkpowers42@gmail.com
GEO:36.0677983;-79.8024007
X-APPLE-STRUCTURED-LOCATION;VALUE=URI;X-ADDRESS=Presbyterian Church of The Covenant 501 S. Mendenhall St. Greensboro NC 27403 United States;X-APPLE-RADIUS=500;X-TITLE=501 S. Mendenhall St.:geo:-79.8024007,36.0677983
END:VEVENT
BEGIN:VEVENT
DTSTART;TZID=America/New_York:20160424T100000
DTEND;TZID=America/New_York:20160424T110000
DTSTAMP:20260423T165218
CREATED:20160401T195553Z
LAST-MODIFIED:20160409T141810Z
UID:36827-1461492000-1461495600@athinkingchurch.org
SUMMARY:Special Event - Potluck Brunch
DESCRIPTION:Adult classes (Progressive Christianity\, CIDG\, Table Talk) will not meet today so that we can all come together as a congregation! The first shared meal under our new schedule\, spearheaded by Joyce Powers and Joy Saleeby. Lots of volunteer help is needed to provide dishes\, set up tables\, decorate\, assisting during the meal\, and to help clean up afterwards. At the brunch\, we will also be dedicating the kitchen to our late longtime member Ken Conrad\, who was responsible for many memorable meals at Covenant.
URL:https://athinkingchurch.org/event/potluck-brunch/
LOCATION:Church of the Covenant – Fellowship Hall\, 501 S. Mendenhall St.\, Greensboro\, NC\, 27403\, United States
CATEGORIES:Special Event
ATTACH;FMTTYPE=image/jpeg:https://athinkingchurch.org/wp-content/uploads/2016/03/fellowshiphall.jpg
ORGANIZER;CN="Joyce Powers":MAILTO:jkpowers42@gmail.com
END:VEVENT
BEGIN:VEVENT
DTSTART;TZID=America/New_York:20160408T090000
DTEND;TZID=America/New_York:20160408T103000
DTSTAMP:20260423T165218
CREATED:20160331T131600Z
LAST-MODIFIED:20160409T131647Z
UID:36805-1460106000-1460111400@athinkingchurch.org
SUMMARY:Coffee at Highwoods Panera
DESCRIPTION:Please join us for this informal gathering\, for coffee and conversation.
URL:https://athinkingchurch.org/event/coffee-at-highwoods-panera/2016-04-08/
LOCATION:Panera Bread\, 1604 Highwoods Blvd.\, Greensboro\, NC\, 27410\, United States
CATEGORIES:Fellowship
ATTACH;FMTTYPE=image/jpeg:https://athinkingchurch.org/wp-content/uploads/2016/04/panera.jpg
ORGANIZER;CN="Joyce Powers":MAILTO:jkpowers42@gmail.com
END:VEVENT
END:VCALENDAR