BEGIN:VCALENDAR
VERSION:2.0
PRODID:-//Church of the Covenant - ECPv6.15.20//NONSGML v1.0//EN
CALSCALE:GREGORIAN
METHOD:PUBLISH
X-ORIGINAL-URL:https://athinkingchurch.org
X-WR-CALDESC:Events for Church of the Covenant
REFRESH-INTERVAL;VALUE=DURATION:PT1H
X-Robots-Tag:noindex
X-PUBLISHED-TTL:PT1H
BEGIN:VTIMEZONE
TZID:America/New_York
BEGIN:DAYLIGHT
TZOFFSETFROM:-0500
TZOFFSETTO:-0400
TZNAME:EDT
DTSTART:20150308T070000
END:DAYLIGHT
BEGIN:STANDARD
TZOFFSETFROM:-0400
TZOFFSETTO:-0500
TZNAME:EST
DTSTART:20151101T060000
END:STANDARD
BEGIN:DAYLIGHT
TZOFFSETFROM:-0500
TZOFFSETTO:-0400
TZNAME:EDT
DTSTART:20160313T070000
END:DAYLIGHT
BEGIN:STANDARD
TZOFFSETFROM:-0400
TZOFFSETTO:-0500
TZNAME:EST
DTSTART:20161106T060000
END:STANDARD
BEGIN:DAYLIGHT
TZOFFSETFROM:-0500
TZOFFSETTO:-0400
TZNAME:EDT
DTSTART:20170312T070000
END:DAYLIGHT
BEGIN:STANDARD
TZOFFSETFROM:-0400
TZOFFSETTO:-0500
TZNAME:EST
DTSTART:20171105T060000
END:STANDARD
END:VTIMEZONE
BEGIN:VEVENT
DTSTART;TZID=America/New_York:20160413T180000
DTEND;TZID=America/New_York:20160413T193000
DTSTAMP:20260423T181223
CREATED:20160401T194039Z
LAST-MODIFIED:20160413T204903Z
UID:36824-1460570400-1460575800@athinkingchurch.org
SUMMARY:Wednesday Potluck
DESCRIPTION:Please join us for food and community. Bring some food to share if you can.
URL:https://athinkingchurch.org/event/wednesday-potluck/2016-04-13/
LOCATION:Church of the Covenant – Fellowship Hall\, 501 S. Mendenhall St.\, Greensboro\, NC\, 27403\, United States
CATEGORIES:Fellowship
ATTACH;FMTTYPE=image/jpeg:https://athinkingchurch.org/wp-content/uploads/2016/04/fellowshiphall2.jpg
END:VEVENT
BEGIN:VEVENT
DTSTART;TZID=America/New_York:20160413T090000
DTEND;TZID=America/New_York:20160413T103000
DTSTAMP:20260423T181223
CREATED:20160331T125536Z
LAST-MODIFIED:20160413T202927Z
UID:36802-1460538000-1460543400@athinkingchurch.org
SUMMARY:Coffee at the Green Bean
DESCRIPTION:Please join us for this informal gathering\, for coffee and conversation.
URL:https://athinkingchurch.org/event/coffee-at-the-green-bean/2016-04-13/
LOCATION:Green Bean Coffeehouse\, 341 S. Elm St.\, Greensboro\, NC\, 27401\, United States
CATEGORIES:Fellowship
ATTACH;FMTTYPE=image/jpeg:https://athinkingchurch.org/wp-content/uploads/2016/04/greenbean3.jpg
END:VEVENT
BEGIN:VEVENT
DTSTART;TZID=America/New_York:20160411T143000
DTEND;TZID=America/New_York:20160411T160000
DTSTAMP:20260423T181223
CREATED:20160331T195624Z
LAST-MODIFIED:20160409T002857Z
UID:36822-1460385000-1460390400@athinkingchurch.org
SUMMARY:Jake's Pub and Billiards
DESCRIPTION:Come join us for conversation and 1/2 price beer specials.
URL:https://athinkingchurch.org/event/social-jakes-pub-and-billiards/2016-04-11/
LOCATION:Jake’s Pub and Billiards\, 1712 Spring Garden St. # B\,  Greensboro\, NC\, 27403\, United States
CATEGORIES:Fellowship
END:VEVENT
BEGIN:VEVENT
DTSTART;TZID=America/New_York:20160410T111500
DTEND;TZID=America/New_York:20160410T120000
DTSTAMP:20260423T181223
CREATED:20160330T181516Z
LAST-MODIFIED:20160413T202837Z
UID:36780-1460286900-1460289600@athinkingchurch.org
SUMMARY:11:15 Gathering
DESCRIPTION:Interim Pastor Mark Sandlin leads\, and his message is titled “Groans Too Deep For Words\,” Romans 8: 26-39
URL:https://athinkingchurch.org/event/april-10-gathering/
LOCATION:Church of the Covenant – Sanctuary\, 501 S. Mendenhall St.\, Greensboro\, NC\, 27403\, United States
CATEGORIES:Sunday Gathering
ATTACH;FMTTYPE=image/jpeg:https://athinkingchurch.org/wp-content/uploads/2016/04/sanctuary3a.jpg
END:VEVENT
BEGIN:VEVENT
DTSTART;TZID=America/New_York:20160410T101500
DTEND;TZID=America/New_York:20160410T110000
DTSTAMP:20260423T181223
CREATED:20160409T005152Z
LAST-MODIFIED:20160413T202758Z
UID:37075-1460283300-1460286000@athinkingchurch.org
SUMMARY:Adult Study Group - Table Talk
DESCRIPTION:Jane Cauthen leads the sharing and open discussion group.The talk is always lively! Come share!
URL:https://athinkingchurch.org/event/table-talk/2016-04-10/
LOCATION:Church of the Covenant – Marty’s Room\, 501 S. Mendenhall St.\, Greensboro\, NC\, 27403\, United States
CATEGORIES:Adult Classes
ATTACH;FMTTYPE=image/jpeg:https://athinkingchurch.org/wp-content/uploads/2016/04/martysroom3.jpg
ORGANIZER;CN="Jane Cauthen":MAILTO:jccauthen@aol.com
END:VEVENT
BEGIN:VEVENT
DTSTART;TZID=America/New_York:20160410T101500
DTEND;TZID=America/New_York:20160410T110000
DTSTAMP:20260423T181223
CREATED:20160407T183215Z
LAST-MODIFIED:20160409T143223Z
UID:36856-1460283300-1460286000@athinkingchurch.org
SUMMARY:Adult Study Group - CIDG - LGBTQ+ basics
DESCRIPTION:Sarah Sills\, leading the Contemporary Issues Discussion Group\, will offer a crash course on the basics of what being transgender means\, starting with the most basic info (e.g.\, what do the letters in LGBTQIA stand for?) This discussion is meant to be an introduction in anticipation of next week’s guest speaker.
URL:https://athinkingchurch.org/event/cidg/
LOCATION:Church of the Covenant – Library\, 501 S. Mendenhall St\, Greensboro\, NC\, 27408\, United States
CATEGORIES:Adult Classes
ATTACH;FMTTYPE=image/jpeg:https://athinkingchurch.org/wp-content/uploads/2016/04/library.jpg
ORGANIZER;CN="Sarah Sills":MAILTO:sarahbsills@gmail.com
END:VEVENT
BEGIN:VEVENT
DTSTART;TZID=America/New_York:20160410T101500
DTEND;TZID=America/New_York:20160410T110000
DTSTAMP:20260423T181223
CREATED:20160402T120106Z
LAST-MODIFIED:20160409T002522Z
UID:36845-1460283300-1460286000@athinkingchurch.org
SUMMARY:Adult Study Group - Progressive Christianity
DESCRIPTION:The ongoing book study of Brian McLaren’s We Make the Road By Walking continues. Susanne Jordan leads the discussion on chapter 35\, “The Uprising of Discipleship” and chapter 36\, “The Uprising of Worship.”
URL:https://athinkingchurch.org/event/adult-study-group-progressive-christianity/
LOCATION:Church of the Covenant – Parlor\, 501 S Mendenhall St\, Greensboro\, NC\, 27403\, United States
CATEGORIES:Adult Classes
ATTACH;FMTTYPE=image/jpeg:https://athinkingchurch.org/wp-content/uploads/2016/04/parlor.jpg
END:VEVENT
BEGIN:VEVENT
DTSTART;TZID=America/New_York:20160410T091500
DTEND;TZID=America/New_York:20160410T100000
DTSTAMP:20260423T181223
CREATED:20160330T181255Z
LAST-MODIFIED:20160413T202626Z
UID:36779-1460279700-1460282400@athinkingchurch.org
SUMMARY:9:15 Gathering
DESCRIPTION:Interim Pastor Mark Sandlin leads\, and his message is titled “Groans Too Deep For Words\,” Romans 8: 26-39
URL:https://athinkingchurch.org/event/april-10-gatherings-2/
LOCATION:Church of the Covenant – Sanctuary\, 501 S. Mendenhall St.\, Greensboro\, NC\, 27403\, United States
CATEGORIES:Sunday Gathering
ATTACH;FMTTYPE=image/jpeg:https://athinkingchurch.org/wp-content/uploads/2016/04/sanctuary3.jpg
END:VEVENT
BEGIN:VEVENT
DTSTART;TZID=America/New_York:20160408T090000
DTEND;TZID=America/New_York:20160408T103000
DTSTAMP:20260423T181223
CREATED:20160331T131600Z
LAST-MODIFIED:20160409T131647Z
UID:36805-1460106000-1460111400@athinkingchurch.org
SUMMARY:Coffee at Highwoods Panera
DESCRIPTION:Please join us for this informal gathering\, for coffee and conversation.
URL:https://athinkingchurch.org/event/coffee-at-highwoods-panera/2016-04-08/
LOCATION:Panera Bread\, 1604 Highwoods Blvd.\, Greensboro\, NC\, 27410\, United States
CATEGORIES:Fellowship
ATTACH;FMTTYPE=image/jpeg:https://athinkingchurch.org/wp-content/uploads/2016/04/panera.jpg
ORGANIZER;CN="Joyce Powers":MAILTO:jkpowers42@gmail.com
END:VEVENT
END:VCALENDAR