BEGIN:VCALENDAR
VERSION:2.0
PRODID:-//Church of the Covenant - ECPv6.15.20//NONSGML v1.0//EN
CALSCALE:GREGORIAN
METHOD:PUBLISH
X-ORIGINAL-URL:https://athinkingchurch.org
X-WR-CALDESC:Events for Church of the Covenant
REFRESH-INTERVAL;VALUE=DURATION:PT1H
X-Robots-Tag:noindex
X-PUBLISHED-TTL:PT1H
BEGIN:VTIMEZONE
TZID:America/New_York
BEGIN:DAYLIGHT
TZOFFSETFROM:-0500
TZOFFSETTO:-0400
TZNAME:EDT
DTSTART:20150308T070000
END:DAYLIGHT
BEGIN:STANDARD
TZOFFSETFROM:-0400
TZOFFSETTO:-0500
TZNAME:EST
DTSTART:20151101T060000
END:STANDARD
BEGIN:DAYLIGHT
TZOFFSETFROM:-0500
TZOFFSETTO:-0400
TZNAME:EDT
DTSTART:20160313T070000
END:DAYLIGHT
BEGIN:STANDARD
TZOFFSETFROM:-0400
TZOFFSETTO:-0500
TZNAME:EST
DTSTART:20161106T060000
END:STANDARD
BEGIN:DAYLIGHT
TZOFFSETFROM:-0500
TZOFFSETTO:-0400
TZNAME:EDT
DTSTART:20170312T070000
END:DAYLIGHT
BEGIN:STANDARD
TZOFFSETFROM:-0400
TZOFFSETTO:-0500
TZNAME:EST
DTSTART:20171105T060000
END:STANDARD
BEGIN:DAYLIGHT
TZOFFSETFROM:-0500
TZOFFSETTO:-0400
TZNAME:EDT
DTSTART:20180311T070000
END:DAYLIGHT
BEGIN:STANDARD
TZOFFSETFROM:-0400
TZOFFSETTO:-0500
TZNAME:EST
DTSTART:20181104T060000
END:STANDARD
BEGIN:DAYLIGHT
TZOFFSETFROM:-0500
TZOFFSETTO:-0400
TZNAME:EDT
DTSTART:20190310T070000
END:DAYLIGHT
BEGIN:STANDARD
TZOFFSETFROM:-0400
TZOFFSETTO:-0500
TZNAME:EST
DTSTART:20191103T060000
END:STANDARD
BEGIN:DAYLIGHT
TZOFFSETFROM:-0500
TZOFFSETTO:-0400
TZNAME:EDT
DTSTART:20200308T070000
END:DAYLIGHT
BEGIN:STANDARD
TZOFFSETFROM:-0400
TZOFFSETTO:-0500
TZNAME:EST
DTSTART:20201101T060000
END:STANDARD
BEGIN:DAYLIGHT
TZOFFSETFROM:-0500
TZOFFSETTO:-0400
TZNAME:EDT
DTSTART:20210314T070000
END:DAYLIGHT
BEGIN:STANDARD
TZOFFSETFROM:-0400
TZOFFSETTO:-0500
TZNAME:EST
DTSTART:20211107T060000
END:STANDARD
BEGIN:DAYLIGHT
TZOFFSETFROM:-0500
TZOFFSETTO:-0400
TZNAME:EDT
DTSTART:20220313T070000
END:DAYLIGHT
BEGIN:STANDARD
TZOFFSETFROM:-0400
TZOFFSETTO:-0500
TZNAME:EST
DTSTART:20221106T060000
END:STANDARD
BEGIN:DAYLIGHT
TZOFFSETFROM:-0500
TZOFFSETTO:-0400
TZNAME:EDT
DTSTART:20230312T070000
END:DAYLIGHT
BEGIN:STANDARD
TZOFFSETFROM:-0400
TZOFFSETTO:-0500
TZNAME:EST
DTSTART:20231105T060000
END:STANDARD
BEGIN:DAYLIGHT
TZOFFSETFROM:-0500
TZOFFSETTO:-0400
TZNAME:EDT
DTSTART:20240310T070000
END:DAYLIGHT
BEGIN:STANDARD
TZOFFSETFROM:-0400
TZOFFSETTO:-0500
TZNAME:EST
DTSTART:20241103T060000
END:STANDARD
BEGIN:DAYLIGHT
TZOFFSETFROM:-0500
TZOFFSETTO:-0400
TZNAME:EDT
DTSTART:20250309T070000
END:DAYLIGHT
BEGIN:STANDARD
TZOFFSETFROM:-0400
TZOFFSETTO:-0500
TZNAME:EST
DTSTART:20251102T060000
END:STANDARD
END:VTIMEZONE
BEGIN:VEVENT
DTSTART;TZID=America/New_York:20241219T080000
DTEND;TZID=America/New_York:20241219T170000
DTSTAMP:20260423T114652
CREATED:20241219T175827Z
LAST-MODIFIED:20241219T175827Z
UID:40044-1734595200-1734627600@athinkingchurch.org
SUMMARY:Christmas Eve Service\, Dec. 24\, 2024\, 5:00pm
DESCRIPTION:Join us at 5:00pm on Christmas Eve\, December 24th\, in the PCoC Sanctuary\, for a special service of Lessons and Carols\, with special guest musicians and a Candlelight Recession.  Celebrate the season with us; everyone is welcome!
URL:https://athinkingchurch.org/event/christmas-eve-service-dec-24-2024-500pm/
CATEGORIES:Special Event
END:VEVENT
BEGIN:VEVENT
DTSTART;TZID=America/New_York:20221101T080000
DTEND;TZID=America/New_York:20221101T170000
DTSTAMP:20260423T114652
CREATED:20221101T174049Z
LAST-MODIFIED:20221101T174049Z
UID:39406-1667289600-1667322000@athinkingchurch.org
SUMMARY:Rumi By Candlelight Returns Nov. 11th
DESCRIPTION:
URL:https://athinkingchurch.org/event/rumi-by-candlelight-returns-nov-11th/
CATEGORIES:Special Event
END:VEVENT
BEGIN:VEVENT
DTSTART;TZID=America/New_York:20220518T193000
DTEND;TZID=America/New_York:20220518T210000
DTSTAMP:20260423T114652
CREATED:20220516T154433Z
LAST-MODIFIED:20220516T154527Z
UID:39284-1652902200-1652907600@athinkingchurch.org
SUMMARY:Music on Mendenhall Featuring Bombadil on May 18\, 2022
DESCRIPTION:
URL:https://athinkingchurch.org/event/music-on-mendenhall-featuring-bombadil-on-may-18-2022/
LOCATION:Presbyterian Church of The Covenant\, 501 S. Mendenhall St.\, Greensboro\, NC\, 27403\, United States
CATEGORIES:Special Event
GEO:36.0677983;-79.8024007
X-APPLE-STRUCTURED-LOCATION;VALUE=URI;X-ADDRESS=Presbyterian Church of The Covenant 501 S. Mendenhall St. Greensboro NC 27403 United States;X-APPLE-RADIUS=500;X-TITLE=501 S. Mendenhall St.:geo:-79.8024007,36.0677983
END:VEVENT
BEGIN:VEVENT
DTSTART;TZID=America/New_York:20201223T080000
DTEND;TZID=America/New_York:20201223T170000
DTSTAMP:20260423T114652
CREATED:20201223T170230Z
LAST-MODIFIED:20201223T170230Z
UID:38914-1608710400-1608742800@athinkingchurch.org
SUMMARY:Christmas Eve Service
DESCRIPTION:PCoC will air its Christmas Eve service at 5:00pm on December 24th\, 2020 \nvia Facebook (www.facebook.com/PCOC.GSO/) and \non YouTube (www.youtube.com/channel/UCar8ZVg434DF1uTtL86JEhg) \nJoin us for readings and seasonal music by Rev. Sandlin\, congregation members and local musicians. \nMerry Christmas\, Happy Holidays\, and stay safe and healthy this holiday season and always!
URL:https://athinkingchurch.org/event/christmas-eve-service/
CATEGORIES:Special Event
END:VEVENT
BEGIN:VEVENT
DTSTART;TZID=America/New_York:20201206T100000
DTEND;TZID=America/New_York:20201220T100000
DTSTAMP:20260423T114652
CREATED:20201201T173316Z
LAST-MODIFIED:20201201T173933Z
UID:38891-1607248800-1608458400@athinkingchurch.org
SUMMARY:Food Drive for Spartan Open Pantry!
DESCRIPTION:
URL:https://athinkingchurch.org/event/food-drive-for-spartan-open-pantry/
LOCATION:Presbyterian Church of The Covenant\, 501 S. Mendenhall St.\, Greensboro\, NC\, 27403\, United States
CATEGORIES:Special Event,Volunteer/Outreach
ORGANIZER;CN="Joyce Powers":MAILTO:jkpowers42@gmail.com
GEO:36.0677983;-79.8024007
X-APPLE-STRUCTURED-LOCATION;VALUE=URI;X-ADDRESS=Presbyterian Church of The Covenant 501 S. Mendenhall St. Greensboro NC 27403 United States;X-APPLE-RADIUS=500;X-TITLE=501 S. Mendenhall St.:geo:-79.8024007,36.0677983
END:VEVENT
BEGIN:VEVENT
DTSTART;TZID=America/New_York:20201001T160000
DTEND;TZID=America/New_York:20201001T180000
DTSTAMP:20260423T114652
CREATED:20200930T181107Z
LAST-MODIFIED:20200930T181107Z
UID:38841-1601568000-1601575200@athinkingchurch.org
SUMMARY:Vote Common Good Rally at PCoc On Oct. 1st at 4:00pm
DESCRIPTION:
URL:https://athinkingchurch.org/event/vote-common-good-rally-at-pcoc-on-oct-1st-at-400pm/
LOCATION:Presbyterian Church of The Covenant\, 501 S. Mendenhall St.\, Greensboro\, NC\, 27403\, United States
CATEGORIES:Special Event
GEO:36.0677983;-79.8024007
X-APPLE-STRUCTURED-LOCATION;VALUE=URI;X-ADDRESS=Presbyterian Church of The Covenant 501 S. Mendenhall St. Greensboro NC 27403 United States;X-APPLE-RADIUS=500;X-TITLE=501 S. Mendenhall St.:geo:-79.8024007,36.0677983
END:VEVENT
BEGIN:VEVENT
DTSTART;TZID=America/New_York:20191224T170000
DTEND;TZID=America/New_York:20191224T180000
DTSTAMP:20260423T114652
CREATED:20191220T183518Z
LAST-MODIFIED:20191220T183759Z
UID:38631-1577206800-1577210400@athinkingchurch.org
SUMMARY:2019 Christmas Eve Service
DESCRIPTION:Join PCoC at 5:00pm on Tuesday\, December 24th in the Sanctuary to share in this year’s Christmas Eve service\, “An Appalachian Christmas”.  The hour-long service features readings\, carols\, candle-lighting\, and special music from the PCoC choir and men’s quartet\, plus special guest musicians.  Celebrate Christmas Eve with us!
URL:https://athinkingchurch.org/event/2019-christmas-eve-service/
LOCATION:Church of the Covenant – Sanctuary\, 501 S. Mendenhall St.\, Greensboro\, NC\, 27403\, United States
END:VEVENT
BEGIN:VEVENT
DTSTART;TZID=America/New_York:20191201T100000
DTEND;TZID=America/New_York:20191201T110000
DTSTAMP:20260423T114652
CREATED:20191126T195052Z
LAST-MODIFIED:20191126T195202Z
UID:38602-1575194400-1575198000@athinkingchurch.org
SUMMARY:Joint Service on December 1\, 2019
DESCRIPTION:PCoC welcomes December with a special music-filled joint service at 10:00am in the Sanctuary \non Sunday\, December 1\, 2019.  Join us for music by our choir\, our music director\, our pastor\, and \nguest musicians.  This service will feature our monthly Communion; everyone is welcome at the \ntable.  Our normal Sunday schedule will resume the following week on Sunday\, December 8th.
URL:https://athinkingchurch.org/event/joint-service-on-december-1-2019/
END:VEVENT
BEGIN:VEVENT
DTSTART;TZID=America/New_York:20190830T080000
DTEND;TZID=America/New_York:20190830T170000
DTSTAMP:20260423T114652
CREATED:20190830T203654Z
LAST-MODIFIED:20190830T203654Z
UID:38538-1567152000-1567184400@athinkingchurch.org
SUMMARY:Joint Service on September 1\, 2019
DESCRIPTION:Join us at 10:00am on Sunday\, September 1st in the Sanctuary to enjoy a special Communion Sunday service\, with music from Music Director Nancy Pitkin and the PCoC men’s quartet\, The Travelers.  There will be no classes or fellowship time.  Regular services will resume on Sunday\, September 8th.
URL:https://athinkingchurch.org/event/joint-service-on-september-1-2019/
CATEGORIES:Special Event,Sunday Gathering
END:VEVENT
BEGIN:VEVENT
DTSTART;TZID=America/New_York:20190823T080000
DTEND;TZID=America/New_York:20190823T170000
DTSTAMP:20260423T114652
CREATED:20190823T182042Z
LAST-MODIFIED:20190823T182049Z
UID:38529-1566547200-1566579600@athinkingchurch.org
SUMMARY:Joint Service on August 25th
DESCRIPTION:We will have a Joint Service at 10:00am in the Sanctuary on Sunday\, August 25\, 2019. \nIt will be followed by the annual Ice Cream Social in the Fellowship Hall!
URL:https://athinkingchurch.org/event/joint-service-on-august-25th/
CATEGORIES:Sunday Gathering
END:VEVENT
BEGIN:VEVENT
DTSTART;TZID=America/New_York:20190630T100000
DTEND;TZID=America/New_York:20190630T120000
DTSTAMP:20260423T114652
CREATED:20190628T154336Z
LAST-MODIFIED:20190628T154336Z
UID:38471-1561888800-1561896000@athinkingchurch.org
SUMMARY:Joint Service & Luncheon on June 30th
DESCRIPTION:PCoC will share a joint service at 10:00am on Sunday\, June 30\, 2019\, followed by our annual Hot Dog luncheon. \nPlease bring your family and friends to share the summer celebration!
URL:https://athinkingchurch.org/event/joint-service-luncheon-on-june-30th/
END:VEVENT
BEGIN:VEVENT
DTSTART;TZID=America/New_York:20190623T140000
DTEND;TZID=America/New_York:20190623T170000
DTSTAMP:20260423T114652
CREATED:20190621T204921Z
LAST-MODIFIED:20190621T205142Z
UID:38464-1561298400-1561309200@athinkingchurch.org
SUMMARY:June 23\, 2:00pm:  Installation Service of Rev. Mark Sandlin
DESCRIPTION:Join us as we install Rev. Mark Sandlin as our called pastor! With special guest speaker Diana Butler Bass\, music by local musicians\, with Reception to follow at 3:00pm in the Fellowship Hall.  Everyone is invited!  Come celebrate this special day with us!
URL:https://athinkingchurch.org/event/june-23-200pm-installation-service-of-rev-mark-sandlin/
CATEGORIES:Special Event
END:VEVENT
BEGIN:VEVENT
DTSTART;TZID=America/New_York:20190623T140000
DTEND;TZID=America/New_York:20190623T170000
DTSTAMP:20260423T114652
CREATED:20190618T141007Z
LAST-MODIFIED:20190618T142559Z
UID:38452-1561298400-1561309200@athinkingchurch.org
SUMMARY:Installation Service for Rev. Mark Sandlin\, June 23\, 2019
DESCRIPTION:Please join us as we welcome PCoC’s new pastor\, Rev. Mark Sandlin\, with an installation service\, followed by a reception.  You’re invited! \n 
URL:https://athinkingchurch.org/event/installation-service-for-rev-mark-sandlin-june-23-2019/
LOCATION:Presbyterian Church of The Covenant\, 501 S. Mendenhall St.\, Greensboro\, NC\, 27403\, United States
GEO:36.0677983;-79.8024007
X-APPLE-STRUCTURED-LOCATION;VALUE=URI;X-ADDRESS=Presbyterian Church of The Covenant 501 S. Mendenhall St. Greensboro NC 27403 United States;X-APPLE-RADIUS=500;X-TITLE=501 S. Mendenhall St.:geo:-79.8024007,36.0677983
END:VEVENT
BEGIN:VEVENT
DTSTART;TZID=America/New_York:20190623T110000
DTEND;TZID=America/New_York:20190623T120000
DTSTAMP:20260423T114652
CREATED:20190621T204625Z
LAST-MODIFIED:20190621T204724Z
UID:38462-1561287600-1561291200@athinkingchurch.org
SUMMARY:Joint Service on Sunday\, June 23rd
DESCRIPTION:Join us at 11:00am on Sunday\, June 23rd\, to share a joint service at a special time. \nRev. Mark Sandlin’s message is entitled\, “ALL Means ALL”. \nThe service will be in our Traditional Gathering format. \nEveryone is welcome; we are inclusive\, openminded\, and home for your soul.
URL:https://athinkingchurch.org/event/joint-service-on-sunday-june-23rd/
CATEGORIES:Special Event,Sunday Gathering
END:VEVENT
BEGIN:VEVENT
DTSTART;TZID=America/New_York:20190222T080000
DTEND;TZID=America/New_York:20190222T170000
DTSTAMP:20260423T114652
CREATED:20190222T190758Z
LAST-MODIFIED:20190222T190758Z
UID:38371-1550822400-1550854800@athinkingchurch.org
SUMMARY:Joint Service & Luncheon on Sunday\, February 24th
DESCRIPTION:Join us on Sunday\, February 24th at 10:00am in the Sanctuary for a combined service\, \nfollowed immediately by lunch in the Fellowship Hall\, and the presentation of the PCoC 2019 \nCapital Campaign. \nWe will observe our usual Sunday schedule again on March 3\, 2019 (Early Service:  9:00am; \nFellowship: 10:00am; Study Groups: 10/20am; Traditional Service\, 11:15am).
URL:https://athinkingchurch.org/event/joint-service-luncheon-on-sunday-february-24th/
CATEGORIES:Special Event,Sunday Gathering
END:VEVENT
BEGIN:VEVENT
DTSTART;TZID=America/New_York:20181224T170000
DTEND;TZID=America/New_York:20181224T180000
DTSTAMP:20260423T114652
CREATED:20181219T185054Z
LAST-MODIFIED:20181219T190704Z
UID:38318-1545670800-1545674400@athinkingchurch.org
SUMMARY:5:00 pm Jazzy Christmas Eve Service at PCoC
DESCRIPTION:Our annual Jazzy Christmas Eve service will be held at 5:00pm on Monday\, December 24th \nin the Sanctuary.  Music Director Nancy Pitkin will be joined by local jazz artists Melvin Holland \nand Aaron Matson\, both graduates of the UNCG Miles Davis Jazz Studies Program. \nAlso featured will be Elaine Penn\, who performs with Nancy Pitkin and with The Penn Family Singers\, \nand Reverend Mark Sandlin\, PCoC’s Interim Pastor. \nCome share singalongs and candle-lighting and enjoy Christmas Eve with us!
URL:https://athinkingchurch.org/event/500-pm-jazzy-christmas-eve-service-at-pcoc/
CATEGORIES:Special Event
END:VEVENT
BEGIN:VEVENT
DTSTART;TZID=America/New_York:20181223T100000
DTEND;TZID=America/New_York:20181223T110000
DTSTAMP:20260423T114652
CREATED:20181219T190342Z
LAST-MODIFIED:20181219T190803Z
UID:38328-1545559200-1545562800@athinkingchurch.org
SUMMARY:10:00am Joint Service on December 23\, 2018
DESCRIPTION:Presbyterian Church of the Covenant is having a John Denver Christmas service on December 23 at 10:00 a.m. \nYes\, it is a worship service with music provided by our esteemed Director of Music Nancy Pitkin\, joined by Elaine Penn of the local Penn Family fame! \nEveryone come\, and John Denver fans will have a treat for your soul!
URL:https://athinkingchurch.org/event/1000am-joint-service-on-december-23-2018/
CATEGORIES:Sunday Gathering
END:VEVENT
BEGIN:VEVENT
DTSTART;TZID=America/New_York:20171224T170000
DTEND;TZID=America/New_York:20171224T180000
DTSTAMP:20260423T114652
CREATED:20171221T183023Z
LAST-MODIFIED:20171221T183100Z
UID:37992-1514134800-1514138400@athinkingchurch.org
SUMMARY:A Jazzy Christmas Eve
DESCRIPTION:Join us at 5:00pm on December 24\, 2017 as PCoC presents \nA Jazzy Christmas Eve\, with special music from local jazz artists \nand PCoC Music Director Nancy Pitkin\, as well as seasonal readings \nwith Pastor Mark Sandlin\, and candle-lighting to usher in Christmas.
URL:https://athinkingchurch.org/event/a-jazzy-christmas-eve/
CATEGORIES:Special Event,Sunday Gathering
END:VEVENT
BEGIN:VEVENT
DTSTART;TZID=America/New_York:20171119T090000
DTEND;TZID=America/New_York:20171119T100000
DTSTAMP:20260423T114652
CREATED:20171117T185116Z
LAST-MODIFIED:20171117T185228Z
UID:37953-1511082000-1511085600@athinkingchurch.org
SUMMARY:Rumi By Daylight
DESCRIPTION:
URL:https://athinkingchurch.org/event/rumi-by-daylight/
LOCATION:Church of the Covenant – Sanctuary\, 501 S. Mendenhall St.\, Greensboro\, NC\, 27403\, United States
CATEGORIES:Special Event
END:VEVENT
BEGIN:VEVENT
DTSTART;TZID=America/New_York:20171007T080000
DTEND;TZID=America/New_York:20171007T120000
DTSTAMP:20260423T114652
CREATED:20171006T170101Z
LAST-MODIFIED:20171006T170101Z
UID:37901-1507363200-1507377600@athinkingchurch.org
SUMMARY:CHURCH RUMMAGE SALE! Oct. 7th
DESCRIPTION:
URL:https://athinkingchurch.org/event/church-rummage-sale-oct-7th/
LOCATION:Presbyterian Church of The Covenant\, 501 S. Mendenhall St.\, Greensboro\, NC\, 27403\, United States
CATEGORIES:Special Event
GEO:36.0677983;-79.8024007
X-APPLE-STRUCTURED-LOCATION;VALUE=URI;X-ADDRESS=Presbyterian Church of The Covenant 501 S. Mendenhall St. Greensboro NC 27403 United States;X-APPLE-RADIUS=500;X-TITLE=501 S. Mendenhall St.:geo:-79.8024007,36.0677983
END:VEVENT
BEGIN:VEVENT
DTSTART;TZID=America/New_York:20161023T190000
DTEND;TZID=America/New_York:20161023T200000
DTSTAMP:20260423T114652
CREATED:20161019T154735Z
LAST-MODIFIED:20161019T154743Z
UID:37411-1477249200-1477252800@athinkingchurch.org
SUMMARY:Free Concert by Antonio Truyols and Unit Three
DESCRIPTION:Free Concert on Oct. 23\, 7:00pm in the PCoC Sanctuary!  Free Parking!
URL:https://athinkingchurch.org/event/free-concert-by-antonio-truyols-and-unit-three/
LOCATION:Presbyterian Church of The Covenant\, 501 S. Mendenhall St.\, Greensboro\, NC\, 27403\, United States
CATEGORIES:Special Event
GEO:36.0677983;-79.8024007
X-APPLE-STRUCTURED-LOCATION;VALUE=URI;X-ADDRESS=Presbyterian Church of The Covenant 501 S. Mendenhall St. Greensboro NC 27403 United States;X-APPLE-RADIUS=500;X-TITLE=501 S. Mendenhall St.:geo:-79.8024007,36.0677983
END:VEVENT
BEGIN:VEVENT
DTSTART;TZID=America/New_York:20160828T101500
DTEND;TZID=America/New_York:20160828T110000
DTSTAMP:20260423T114652
CREATED:20160409T143015Z
LAST-MODIFIED:20160409T143015Z
UID:37115-1472379300-1472382000@athinkingchurch.org
SUMMARY:All-Church Brunch
DESCRIPTION:Adult Study Groups are off this week and the congregation comes together for food and fellowship.
URL:https://athinkingchurch.org/event/all-church-brunch/
LOCATION:Church of the Covenant – Fellowship Hall\, 501 S. Mendenhall St.\, Greensboro\, NC\, 27403\, United States
CATEGORIES:Special Event
ATTACH;FMTTYPE=image/jpeg:https://athinkingchurch.org/wp-content/uploads/2016/03/fellowshiphall.jpg
ORGANIZER;CN="Unnamed Organizer":MAILTO:pcoc2010@gmail.com
END:VEVENT
BEGIN:VEVENT
DTSTART;TZID=America/New_York:20160731T101500
DTEND;TZID=America/New_York:20160731T110000
DTSTAMP:20260423T114652
CREATED:20160409T142400Z
LAST-MODIFIED:20160409T142546Z
UID:37113-1469960100-1469962800@athinkingchurch.org
SUMMARY:All-Church Project - TBA
DESCRIPTION:Adult Classes are off this week to allow the whole congregation to come together.
URL:https://athinkingchurch.org/event/all-church-project-tba-2016-07-29/
LOCATION:Church of the Covenant – Fellowship Hall\, 501 S. Mendenhall St.\, Greensboro\, NC\, 27403\, United States
CATEGORIES:Volunteer/Outreach
ORGANIZER;CN="Unnamed Organizer":MAILTO:pcoc2010@gmail.com
END:VEVENT
BEGIN:VEVENT
DTSTART;TZID=America/New_York:20160626T101500
DTEND;TZID=America/New_York:20160626T110000
DTSTAMP:20260423T114652
CREATED:20160409T142400Z
LAST-MODIFIED:20160409T142753Z
UID:37112-1466936100-1466938800@athinkingchurch.org
SUMMARY:All-Church Brunch
DESCRIPTION:Adult Classes are off this week to allow the whole congregation to come together for food and fellowship.
URL:https://athinkingchurch.org/event/all-church-project-tba-2016-06-29/
LOCATION:Church of the Covenant – Fellowship Hall\, 501 S. Mendenhall St.\, Greensboro\, NC\, 27403\, United States
CATEGORIES:Special Event
ATTACH;FMTTYPE=image/jpeg:https://athinkingchurch.org/wp-content/uploads/2016/03/fellowshiphall.jpg
ORGANIZER;CN="Unnamed Organizer":MAILTO:pcoc2010@gmail.com
END:VEVENT
BEGIN:VEVENT
DTSTART;TZID=America/New_York:20160612T101500
DTEND;TZID=America/New_York:20160612T110000
DTSTAMP:20260423T114652
CREATED:20160409T002634Z
LAST-MODIFIED:20160413T203857Z
UID:37005-1465726500-1465729200@athinkingchurch.org
SUMMARY:Adult Study Group - Progressive Christianity
DESCRIPTION:The ongoing book study of Brian McLaren’s “We Make the Road By Walking” continues. Ann Finch leads the discussion of Chapter 43\, “Spirit of Love––Loving Neighbor.”
URL:https://athinkingchurch.org/event/adult-study-group-progressive-christianity-3-2016-06-12/
LOCATION:Church of the Covenant – Parlor\, 501 S Mendenhall St\, Greensboro\, NC\, 27403\, United States
CATEGORIES:Adult Classes
ATTACH;FMTTYPE=image/jpeg:https://athinkingchurch.org/wp-content/uploads/2016/04/parlor3.jpg
END:VEVENT
BEGIN:VEVENT
DTSTART;TZID=America/New_York:20160605T101500
DTEND;TZID=America/New_York:20160605T110000
DTSTAMP:20260423T114652
CREATED:20160409T002634Z
LAST-MODIFIED:20160413T203811Z
UID:37004-1465121700-1465124400@athinkingchurch.org
SUMMARY:Adult Study Group - Progressive Christianity
DESCRIPTION:The ongoing book study of Brian McLaren’s “We Make the Road By Walking” continues. Emily Seawell leads\, on Chapter 42\, “Spirit of Love––Loving God.”
URL:https://athinkingchurch.org/event/adult-study-group-progressive-christianity-3-2016-06-05/
LOCATION:Church of the Covenant – Parlor\, 501 S Mendenhall St\, Greensboro\, NC\, 27403\, United States
CATEGORIES:Adult Classes
ATTACH;FMTTYPE=image/jpeg:https://athinkingchurch.org/wp-content/uploads/2016/04/parlor3.jpg
END:VEVENT
BEGIN:VEVENT
DTSTART;TZID=America/New_York:20160529T101500
DTEND;TZID=America/New_York:20160529T110000
DTSTAMP:20260423T114652
CREATED:20160409T142400Z
LAST-MODIFIED:20160409T142441Z
UID:37109-1464516900-1464519600@athinkingchurch.org
SUMMARY:All-Church Project - TBA
DESCRIPTION:Adult Classes are off this week to allow the whole congregation to come together.
URL:https://athinkingchurch.org/event/all-church-project-tba/2016-05-29/
LOCATION:Church of the Covenant – Fellowship Hall\, 501 S. Mendenhall St.\, Greensboro\, NC\, 27403\, United States
CATEGORIES:Volunteer/Outreach
ORGANIZER;CN="Unnamed Organizer":MAILTO:pcoc2010@gmail.com
END:VEVENT
BEGIN:VEVENT
DTSTART;TZID=America/New_York:20160529T101500
DTEND;TZID=America/New_York:20160529T110000
DTSTAMP:20260423T114652
CREATED:20160409T002634Z
LAST-MODIFIED:20160413T203713Z
UID:37003-1464516900-1464519600@athinkingchurch.org
SUMMARY:Adult Study Group - Progressive Christianity
DESCRIPTION:The ongoing book study of Brian McLaren’s We Make the Road By Walking continues.
URL:https://athinkingchurch.org/event/adult-study-group-progressive-christianity-3-2016-05-29/2016-05-29/
LOCATION:Church of the Covenant – Parlor\, 501 S Mendenhall St\, Greensboro\, NC\, 27403\, United States
CATEGORIES:Adult Classes
ATTACH;FMTTYPE=image/jpeg:https://athinkingchurch.org/wp-content/uploads/2016/04/parlor3.jpg
END:VEVENT
BEGIN:VEVENT
DTSTART;TZID=America/New_York:20160522T101500
DTEND;TZID=America/New_York:20160522T110000
DTSTAMP:20260423T114652
CREATED:20160409T002634Z
LAST-MODIFIED:20160413T203634Z
UID:37002-1463912100-1463914800@athinkingchurch.org
SUMMARY:Adult Study Group - Progressive Christianity
DESCRIPTION:The ongoing book study of Brian McLaren’s “We Make the Road By Walking” continues. Susanne Jordan leads the discussion of Chapter 41\, “Moving with the Spirit.”
URL:https://athinkingchurch.org/event/adult-study-group-progressive-christianity-3-2016-05-22/
LOCATION:Church of the Covenant – Parlor\, 501 S Mendenhall St\, Greensboro\, NC\, 27403\, United States
CATEGORIES:Adult Classes
ATTACH;FMTTYPE=image/jpeg:https://athinkingchurch.org/wp-content/uploads/2016/04/parlor3.jpg
END:VEVENT
BEGIN:VEVENT
DTSTART;TZID=America/New_York:20160515T101500
DTEND;TZID=America/New_York:20160515T110000
DTSTAMP:20260423T114652
CREATED:20160409T002634Z
LAST-MODIFIED:20160413T203611Z
UID:37001-1463307300-1463310000@athinkingchurch.org
SUMMARY:Adult Study Group - Progressive Christianity
DESCRIPTION:The ongoing book study of Brian McLaren’s “We Make the Road By Walking” continues. This week\, Ralph Cauthen leads the discussion of the beginning of Part IV\, Chapter 40\, “The Spirit is Moving.”
URL:https://athinkingchurch.org/event/adult-study-group-progressive-christianity-3-2016-05-15/
LOCATION:Church of the Covenant – Parlor\, 501 S Mendenhall St\, Greensboro\, NC\, 27403\, United States
CATEGORIES:Adult Classes
ATTACH;FMTTYPE=image/jpeg:https://athinkingchurch.org/wp-content/uploads/2016/04/parlor3.jpg
END:VEVENT
END:VCALENDAR