BEGIN:VCALENDAR
VERSION:2.0
PRODID:-//Church of the Covenant - ECPv6.15.20//NONSGML v1.0//EN
CALSCALE:GREGORIAN
METHOD:PUBLISH
X-WR-CALNAME:Church of the Covenant
X-ORIGINAL-URL:https://athinkingchurch.org
X-WR-CALDESC:Events for Church of the Covenant
REFRESH-INTERVAL;VALUE=DURATION:PT1H
X-Robots-Tag:noindex
X-PUBLISHED-TTL:PT1H
BEGIN:VTIMEZONE
TZID:America/New_York
BEGIN:DAYLIGHT
TZOFFSETFROM:-0500
TZOFFSETTO:-0400
TZNAME:EDT
DTSTART:20150308T070000
END:DAYLIGHT
BEGIN:STANDARD
TZOFFSETFROM:-0400
TZOFFSETTO:-0500
TZNAME:EST
DTSTART:20151101T060000
END:STANDARD
BEGIN:DAYLIGHT
TZOFFSETFROM:-0500
TZOFFSETTO:-0400
TZNAME:EDT
DTSTART:20160313T070000
END:DAYLIGHT
BEGIN:STANDARD
TZOFFSETFROM:-0400
TZOFFSETTO:-0500
TZNAME:EST
DTSTART:20161106T060000
END:STANDARD
BEGIN:DAYLIGHT
TZOFFSETFROM:-0500
TZOFFSETTO:-0400
TZNAME:EDT
DTSTART:20170312T070000
END:DAYLIGHT
BEGIN:STANDARD
TZOFFSETFROM:-0400
TZOFFSETTO:-0500
TZNAME:EST
DTSTART:20171105T060000
END:STANDARD
END:VTIMEZONE
BEGIN:VEVENT
DTSTART;TZID=America/New_York:20160529T101500
DTEND;TZID=America/New_York:20160529T110000
DTSTAMP:20260423T181941
CREATED:20160409T002634Z
LAST-MODIFIED:20160413T203713Z
UID:37003-1464516900-1464519600@athinkingchurch.org
SUMMARY:Adult Study Group - Progressive Christianity
DESCRIPTION:The ongoing book study of Brian McLaren’s We Make the Road By Walking continues.
URL:https://athinkingchurch.org/event/adult-study-group-progressive-christianity-3-2016-05-29/2016-05-29/
LOCATION:Church of the Covenant – Parlor\, 501 S Mendenhall St\, Greensboro\, NC\, 27403\, United States
CATEGORIES:Adult Classes
ATTACH;FMTTYPE=image/jpeg:https://athinkingchurch.org/wp-content/uploads/2016/04/parlor3.jpg
END:VEVENT
END:VCALENDAR